BEGIN:VCALENDAR
VERSION:2.0
PRODID:-//Environment Protection Department of Sabah - ECPv6.7.0//NONSGML v1.0//EN
CALSCALE:GREGORIAN
METHOD:PUBLISH
X-ORIGINAL-URL:http://epd.sabah.gov.my/v3
X-WR-CALDESC:Events for Environment Protection Department of Sabah
REFRESH-INTERVAL;VALUE=DURATION:PT1H
X-Robots-Tag:noindex
X-PUBLISHED-TTL:PT1H
BEGIN:VTIMEZONE
TZID:Asia/Kuala_Lumpur
BEGIN:STANDARD
TZOFFSETFROM:+0800
TZOFFSETTO:+0800
TZNAME:+08
DTSTART:20260101T000000
END:STANDARD
END:VTIMEZONE
BEGIN:VEVENT
DTSTART;TZID=Asia/Kuala_Lumpur:20260413T083000
DTEND;TZID=Asia/Kuala_Lumpur:20260414T163000
DTSTAMP:20260422T190806
CREATED:20260413T073215Z
LAST-MODIFIED:20260413T073215Z
UID:5142-1776069000-1776184200@epd.sabah.gov.my
SUMMARY:Capacity Building on Claims & Compensation for Oil Pollution from Ships
DESCRIPTION:Capacity Building on Claims & Compensation for Oil Pollution from Ships anjuran bersama oleh Jabatan Perlindungan Alam Sekitar dan Jabatan Laut Malaysia dengan kerjasama International Tanker Owners Pollution Federation (ITOPF) dan International Group of P&I Clubs (IG P&I) telah diadakan pada 13–14 April 2026 bertempat di Dewan IDS\, Wisma IDS.\n \nLatihan ini telah disempurnakan oleh Puan Mary Isidore Malangking\, Timbalan Setiausaha Tetap 1\, Kementerian Pelancongan\, Kebudayaan dan Alam Sekitar\, mewakili Setiausaha Tetap.\n \n\n \n\n 
URL:http://epd.sabah.gov.my/v3/event/capacity-building-on-claims-compensation-for-oil-pollution-from-ships/
LOCATION:Dewan IDS\, Penampang
CATEGORIES:Event
ATTACH;FMTTYPE=image/jpeg:http://epd.sabah.gov.my/v3/wp-content/uploads/2026/04/Cap_Build-on-Claims-for-Oil-Pollution3.jpg
END:VEVENT
BEGIN:VEVENT
DTSTART;TZID=Asia/Kuala_Lumpur:20260420T083000
DTEND;TZID=Asia/Kuala_Lumpur:20260423T120000
DTSTAMP:20260422T190806
CREATED:20260422T070326Z
LAST-MODIFIED:20260422T070352Z
UID:5159-1776673800-1776945600@epd.sabah.gov.my
SUMMARY:KURSUS KOMPETENSI PROTOKOL PERSAMPELAN BUANGAN TERJADUAL (CePSWASP)
DESCRIPTION:Seramai 24 peserta yang terdiri daripada pegawai-pegawai JPAS\, JAS Sabah dan NREB Sarawak telah menyertai Kursus Kompetensi Protokol Persampelan Buangan Terjadual (CePSWASP) anjuran Jabatan Perlindungan Alam Sekitar (JPAS) dengan kerjasama EiMAS.\n \nKursus ini diadakan di Wisma IDS\, Penampang\, Sabah bermula pada 20 April 2026 dan berakhir pada 23 April 2026.\n \n\n 
URL:http://epd.sabah.gov.my/v3/event/kursus-kompetensi-protokol-persampelan-buangan-terjadual-cepswasp/
LOCATION:Wisma IDS\, Penampang
CATEGORIES:Event
ATTACH;FMTTYPE=image/jpeg:http://epd.sabah.gov.my/v3/wp-content/uploads/2026/04/cepswasp2026EPD.jpg
END:VEVENT
END:VCALENDAR